BEGIN:VCALENDAR
VERSION:2.0
PRODID:-//Studio 308 - ECPv6.15.20//NONSGML v1.0//EN
CALSCALE:GREGORIAN
METHOD:PUBLISH
X-WR-CALNAME:Studio 308
X-ORIGINAL-URL:https://studio308tulsa.com
X-WR-CALDESC:Events for Studio 308
REFRESH-INTERVAL;VALUE=DURATION:PT1H
X-Robots-Tag:noindex
X-PUBLISHED-TTL:PT1H
BEGIN:VTIMEZONE
TZID:UTC
BEGIN:STANDARD
TZOFFSETFROM:+0000
TZOFFSETTO:+0000
TZNAME:UTC
DTSTART:20190101T000000
END:STANDARD
END:VTIMEZONE
BEGIN:VEVENT
DTSTART;TZID=UTC:20200208T200000
DTEND;TZID=UTC:20200208T230000
DTSTAMP:20260419T134414
CREATED:20200115T182747Z
LAST-MODIFIED:20200116T191234Z
UID:999-1581192000-1581202800@studio308tulsa.com
SUMMARY:American Theatre Company Disco Dance Party Fundraiser Call 918-747-9494 for tickets or information.
DESCRIPTION:  \n \n 
URL:https://studio308tulsa.com/event/american-theatre-company-disco-dance-party-fundraiser-call-918-747-9494-for-tickets-or-information/
LOCATION:Studio 308\, 308 S. Lansing Ave\, Tulsa\, OK\, 74120\, United States
END:VEVENT
BEGIN:VEVENT
DTSTART;TZID=UTC:20200222T133000
DTEND;TZID=UTC:20200222T180000
DTSTAMP:20260419T134414
CREATED:20200217T165619Z
LAST-MODIFIED:20200217T165619Z
UID:1044-1582378200-1582394400@studio308tulsa.com
SUMMARY:Private Wedding Reception
DESCRIPTION:
URL:https://studio308tulsa.com/event/private-wedding-reception-3/
LOCATION:Studio 308\, 308 S. Lansing Ave\, Tulsa\, OK\, 74120\, United States
ATTACH;FMTTYPE=image/jpeg:https://studio308tulsa.com/wp-content/uploads/2018/06/wedding-bells.jpg
END:VEVENT
BEGIN:VEVENT
DTSTART;TZID=UTC:20200225T173000
DTEND;TZID=UTC:20200225T213000
DTSTAMP:20260419T134414
CREATED:20200217T170107Z
LAST-MODIFIED:20200217T170107Z
UID:1046-1582651800-1582666200@studio308tulsa.com
SUMMARY:Private Event - Egdorf Mardi Gras
DESCRIPTION:
URL:https://studio308tulsa.com/event/private-event-egdorf-mardi-gras/
LOCATION:Studio 308\, 308 S. Lansing Ave\, Tulsa\, OK\, 74120\, United States
END:VEVENT
BEGIN:VEVENT
DTSTART;TZID=UTC:20200229T200000
DTEND;TZID=UTC:20200229T223000
DTSTAMP:20260419T134414
CREATED:20200116T191955Z
LAST-MODIFIED:20200201T162008Z
UID:1021-1583006400-1583015400@studio308tulsa.com
SUMMARY:Retro Rockets Leap Year Limbo Feb 29\, 2020\,  7:30 Doors\, 8:00 Show
DESCRIPTION:The Retro Rockets are ready to perform their 2020 Leap Year Limbo!  Don’t miss this show!  Come hear your favorite 50’s-60’s and a little bit of 70’s oldies and dance! dance! dance!! We have been selling out so be sure to get your tickets online early! \nTickets are $15 in advance or $20 at the door. All ages welcome! We reserve for tables of 6 or more. We will do our best to accommodate special seating requests but can’t promise. If you will be joining others\, please make a note and we will try to sit you together if you have a party of 6. Your confirmation email is your ticket. Questions? Call 918-329-0224. \n  \nTo purchase your tickets\, CLICK HERE! \nFree on-street parking or in the lot around the corner at 4th and Kenosha. There is also a $2 lot at the corner of 3rd and Kenosha. \nSorry\, no refunds available.   \n 
URL:https://studio308tulsa.com/event/retro-rockets-sadie-hawkins-dance-party-feb-29-2020-730-doors-800-show/
LOCATION:Studio 308\, 308 S. Lansing Ave\, Tulsa\, OK\, 74120\, United States
END:VEVENT
END:VCALENDAR