BEGIN:VCALENDAR
VERSION:2.0
PRODID:-//Studio 308 - ECPv6.15.20//NONSGML v1.0//EN
CALSCALE:GREGORIAN
METHOD:PUBLISH
X-ORIGINAL-URL:https://studio308tulsa.com
X-WR-CALDESC:Events for Studio 308
REFRESH-INTERVAL;VALUE=DURATION:PT1H
X-Robots-Tag:noindex
X-PUBLISHED-TTL:PT1H
BEGIN:VTIMEZONE
TZID:UTC
BEGIN:STANDARD
TZOFFSETFROM:+0000
TZOFFSETTO:+0000
TZNAME:UTC
DTSTART:20200101T000000
END:STANDARD
END:VTIMEZONE
BEGIN:VEVENT
DTSTART;TZID=UTC:20211023T200000
DTEND;TZID=UTC:20211023T230000
DTSTAMP:20260423T212534
CREATED:20210903T200547Z
LAST-MODIFIED:20211023T193603Z
UID:1132-1635019200-1635030000@studio308tulsa.com
SUMMARY:ONLINE TICKET SALES CLOSED. PLEASE PURCHASE AT THE DOOR. The Retro Rockets Halloween Freakout October 23\, 2021 Lobby Doors at 7:30\, Show at 8:00 Cowboy Cookin' BBQ serving in backroom through back door at 6:00
DESCRIPTION:Don’t miss the Retro Rockets in their next show on October 23!   Come hear your favorite 50’s-60’s and a little bit of 70’s oldies and dance! dance! dance!!  \nTickets are $18 in advance or $20 at the door (plus sales tax). All ages welcome! We reserve for tables of 6 or more. We will do our best to accommodate special seating requests but can’t promise. If you will be joining others\, please leave a note with the names in your party in the notes section at checkout.  Your confirmation email is your ticket. Questions? Call or text 918-329-0224. \nTo purchase tickets for the Retro Rockets online CLICK HERE! \nPlease leave a note in the notes section at checkout if you will be buying a $10 plate of fabulous barbeque from Cowboy Cookin’. The back door for Studio 308 will open at 6:00. Serving between 6:00-6:30.  Cowboy Cookin’ will be selling barbeque by the plate for $10. Dining will be in the back room. Doors to the front room will open at 7:30. There will be a bar available during dinner. \nSorry. No refunds available.
URL:https://studio308tulsa.com/event/the-retro-rockets-fallout-frolic-sept-25-2021-lobby-doors-at-730-show-at-800-cowboy-cookin-bbq-serving-in-backroom-through-back-door-at-600/
LOCATION:Studio 308\, 308 S. Lansing Ave\, Tulsa\, OK\, 74120\, United States
ATTACH;FMTTYPE=image/png:https://studio308tulsa.com/wp-content/uploads/2021/04/Retro-Rockets-logo.png
END:VEVENT
END:VCALENDAR