BEGIN:VCALENDAR
VERSION:2.0
PRODID:-//Studio 308 - ECPv6.15.20//NONSGML v1.0//EN
CALSCALE:GREGORIAN
METHOD:PUBLISH
X-WR-CALNAME:Studio 308
X-ORIGINAL-URL:https://studio308tulsa.com
X-WR-CALDESC:Events for Studio 308
REFRESH-INTERVAL;VALUE=DURATION:PT1H
X-Robots-Tag:noindex
X-PUBLISHED-TTL:PT1H
BEGIN:VTIMEZONE
TZID:UTC
BEGIN:STANDARD
TZOFFSETFROM:+0000
TZOFFSETTO:+0000
TZNAME:UTC
DTSTART:20190101T000000
END:STANDARD
END:VTIMEZONE
BEGIN:VEVENT
DTSTART;TZID=UTC:20200208T200000
DTEND;TZID=UTC:20200208T230000
DTSTAMP:20260419T145937
CREATED:20200115T182747Z
LAST-MODIFIED:20200116T191234Z
UID:999-1581192000-1581202800@studio308tulsa.com
SUMMARY:American Theatre Company Disco Dance Party Fundraiser Call 918-747-9494 for tickets or information.
DESCRIPTION:  \n \n 
URL:https://studio308tulsa.com/event/american-theatre-company-disco-dance-party-fundraiser-call-918-747-9494-for-tickets-or-information/
LOCATION:Studio 308\, 308 S. Lansing Ave\, Tulsa\, OK\, 74120\, United States
END:VEVENT
END:VCALENDAR