BEGIN:VCALENDAR
VERSION:2.0
PRODID:-//Studio 308 - ECPv6.15.20//NONSGML v1.0//EN
CALSCALE:GREGORIAN
METHOD:PUBLISH
X-ORIGINAL-URL:https://studio308tulsa.com
X-WR-CALDESC:Events for Studio 308
REFRESH-INTERVAL;VALUE=DURATION:PT1H
X-Robots-Tag:noindex
X-PUBLISHED-TTL:PT1H
BEGIN:VTIMEZONE
TZID:UTC
BEGIN:STANDARD
TZOFFSETFROM:+0000
TZOFFSETTO:+0000
TZNAME:UTC
DTSTART:20180101T000000
END:STANDARD
END:VTIMEZONE
BEGIN:VEVENT
DTSTART;TZID=UTC:20191231T210000
DTEND;TZID=UTC:20200101T210000
DTSTAMP:20260419T150100
CREATED:20191107T172500Z
LAST-MODIFIED:20191231T221923Z
UID:963-1577826000-1577912400@studio308tulsa.com
SUMMARY:ONLINE SALES CLOSED. PLEASE CALL 918-329-0224 FOR AVAILABILITY - Retro Rockets Roaring 20's Speakeasy New Year's Eve Party!
DESCRIPTION:Dress as a gangster or silent screen star. Come as a flapper or come as you are! \nLet’s bring the next roaring 20’s in with the Retro Rockets! All the sounds you know from the 50’s\, 60’s\, and a little early 70’s. \nDoors at 8:30. Show at 9:00. A toast at midnight to welcome the new year! \n  \n$30 per person. To purchase tickets\, CLICK HERE! \n  \nStudio 308 \n308 S Lansing Ave. \n  \nFree Parking on street or in lot around the corner at 4th and Kenosha. Also a $2 lot at 3rd and Kenosha. \n  \nWe will reserve tables for parties or 6 or more as space permits. Please put notes in reservation if you have special requests. We will try our best to honor requests but can’t guarantee. Sorry no refunds. Children welcome but all seats same price. \n 
URL:https://studio308tulsa.com/event/retro-rockets-new-years-eve-extravaganza-2019-details-to-be-determined/
LOCATION:Studio 308\, 308 S. Lansing Ave\, Tulsa\, OK\, 74120\, United States
ATTACH;FMTTYPE=image/jpeg:https://studio308tulsa.com/wp-content/uploads/2019/11/Flappers1920s-58a346bd3df78c4758d56c59-1.jpg
END:VEVENT
END:VCALENDAR