BEGIN:VCALENDAR
VERSION:2.0
PRODID:-//Studio 308 - ECPv6.15.20//NONSGML v1.0//EN
CALSCALE:GREGORIAN
METHOD:PUBLISH
X-WR-CALNAME:Studio 308
X-ORIGINAL-URL:https://studio308tulsa.com
X-WR-CALDESC:Events for Studio 308
REFRESH-INTERVAL;VALUE=DURATION:PT1H
X-Robots-Tag:noindex
X-PUBLISHED-TTL:PT1H
BEGIN:VTIMEZONE
TZID:UTC
BEGIN:STANDARD
TZOFFSETFROM:+0000
TZOFFSETTO:+0000
TZNAME:UTC
DTSTART:20180101T000000
END:STANDARD
END:VTIMEZONE
BEGIN:VEVENT
DTSTART;TZID=UTC:20191214T110000
DTEND;TZID=UTC:20191214T150000
DTSTAMP:20260419T150002
CREATED:20191213T163343Z
LAST-MODIFIED:20191213T163343Z
UID:989-1576321200-1576335600@studio308tulsa.com
SUMMARY:Holiday Shopping Extravaganza Saturday December 14 from 11:00-3:00
DESCRIPTION:Don’t miss this pop up with local entrepreneurs selling their wares! Also non profits! \nHours are 11:00 am to 3:00 pm. Parking is on the street or in the free lot behind the venue. (4th and Kenosha) \nSee you there! \n \n  \n  \n 
URL:https://studio308tulsa.com/event/holiday-shopping-extravaganza-saturday-december-14-from-1100-300/
LOCATION:Studio 308\, 308 S. Lansing Ave\, Tulsa\, OK\, 74120\, United States
END:VEVENT
END:VCALENDAR