BEGIN:VCALENDAR
VERSION:2.0
PRODID:-//Studio 308 - ECPv6.15.20//NONSGML v1.0//EN
CALSCALE:GREGORIAN
METHOD:PUBLISH
X-WR-CALNAME:Studio 308
X-ORIGINAL-URL:https://studio308tulsa.com
X-WR-CALDESC:Events for Studio 308
REFRESH-INTERVAL;VALUE=DURATION:PT1H
X-Robots-Tag:noindex
X-PUBLISHED-TTL:PT1H
BEGIN:VTIMEZONE
TZID:UTC
BEGIN:STANDARD
TZOFFSETFROM:+0000
TZOFFSETTO:+0000
TZNAME:UTC
DTSTART:20180101T000000
END:STANDARD
END:VTIMEZONE
BEGIN:VEVENT
DTSTART;TZID=UTC:20191210T170000
DTEND;TZID=UTC:20191210T230000
DTSTAMP:20260419T150003
CREATED:20191107T171759Z
LAST-MODIFIED:20191107T171759Z
UID:956-1575997200-1576018800@studio308tulsa.com
SUMMARY:Private Holiday Event
DESCRIPTION:
URL:https://studio308tulsa.com/event/private-holiday-event-2/
LOCATION:Studio 308\, 308 S. Lansing Ave\, Tulsa\, OK\, 74120\, United States
ATTACH;FMTTYPE=image/jpeg:https://studio308tulsa.com/wp-content/uploads/2019/11/c9c5fca697fe5e6e0fb88525a2cb8af3.image_.300x300.jpg
END:VEVENT
END:VCALENDAR